BEGIN:VCALENDAR
VERSION:2.0
PRODID:-//Horizons Edge Sports Campus - ECPv6.15.11//NONSGML v1.0//EN
CALSCALE:GREGORIAN
METHOD:PUBLISH
X-WR-CALNAME:Horizons Edge Sports Campus
X-ORIGINAL-URL:https://horizonsedgeva.com
X-WR-CALDESC:Events for Horizons Edge Sports Campus
REFRESH-INTERVAL;VALUE=DURATION:PT1H
X-Robots-Tag:noindex
X-PUBLISHED-TTL:PT1H
BEGIN:VTIMEZONE
TZID:America/New_York
BEGIN:DAYLIGHT
TZOFFSETFROM:-0500
TZOFFSETTO:-0400
TZNAME:EDT
DTSTART:20240310T070000
END:DAYLIGHT
BEGIN:STANDARD
TZOFFSETFROM:-0400
TZOFFSETTO:-0500
TZNAME:EST
DTSTART:20241103T060000
END:STANDARD
BEGIN:DAYLIGHT
TZOFFSETFROM:-0500
TZOFFSETTO:-0400
TZNAME:EDT
DTSTART:20250309T070000
END:DAYLIGHT
BEGIN:STANDARD
TZOFFSETFROM:-0400
TZOFFSETTO:-0500
TZNAME:EST
DTSTART:20251102T060000
END:STANDARD
BEGIN:DAYLIGHT
TZOFFSETFROM:-0500
TZOFFSETTO:-0400
TZNAME:EDT
DTSTART:20260308T070000
END:DAYLIGHT
BEGIN:STANDARD
TZOFFSETFROM:-0400
TZOFFSETTO:-0500
TZNAME:EST
DTSTART:20261101T060000
END:STANDARD
END:VTIMEZONE
BEGIN:VEVENT
DTSTART;TZID=America/New_York:20250329T080000
DTEND;TZID=America/New_York:20250330T220000
DTSTAMP:20260422T040427
CREATED:20240920T184619Z
LAST-MODIFIED:20240920T184619Z
UID:6290-1743235200-1743372000@horizonsedgeva.com
SUMMARY:2nd Annual NTBA Hardwood Classic at HE - 2025
DESCRIPTION:
URL:https://horizonsedgeva.com/event/2nd-annual-ntba-hardwood-classic-at-he-2025/
END:VEVENT
END:VCALENDAR