BEGIN:VCALENDAR
VERSION:2.0
PRODID:-//Horizons Edge Sports Campus - ECPv6.15.11//NONSGML v1.0//EN
CALSCALE:GREGORIAN
METHOD:PUBLISH
X-WR-CALNAME:Horizons Edge Sports Campus
X-ORIGINAL-URL:https://horizonsedgeva.com
X-WR-CALDESC:Events for Horizons Edge Sports Campus
REFRESH-INTERVAL;VALUE=DURATION:PT1H
X-Robots-Tag:noindex
X-PUBLISHED-TTL:PT1H
BEGIN:VTIMEZONE
TZID:America/New_York
BEGIN:DAYLIGHT
TZOFFSETFROM:-0500
TZOFFSETTO:-0400
TZNAME:EDT
DTSTART:20240310T070000
END:DAYLIGHT
BEGIN:STANDARD
TZOFFSETFROM:-0400
TZOFFSETTO:-0500
TZNAME:EST
DTSTART:20241103T060000
END:STANDARD
BEGIN:DAYLIGHT
TZOFFSETFROM:-0500
TZOFFSETTO:-0400
TZNAME:EDT
DTSTART:20250309T070000
END:DAYLIGHT
BEGIN:STANDARD
TZOFFSETFROM:-0400
TZOFFSETTO:-0500
TZNAME:EST
DTSTART:20251102T060000
END:STANDARD
BEGIN:DAYLIGHT
TZOFFSETFROM:-0500
TZOFFSETTO:-0400
TZNAME:EDT
DTSTART:20260308T070000
END:DAYLIGHT
BEGIN:STANDARD
TZOFFSETFROM:-0400
TZOFFSETTO:-0500
TZNAME:EST
DTSTART:20261101T060000
END:STANDARD
END:VTIMEZONE
BEGIN:VEVENT
DTSTART;TZID=America/New_York:20250405T080000
DTEND;TZID=America/New_York:20250405T220000
DTSTAMP:20260422T005446
CREATED:20240920T184620Z
LAST-MODIFIED:20240920T184620Z
UID:6291-1743840000-1743890400@horizonsedgeva.com
SUMMARY:EBC - Basketball Tournament Series 2025
DESCRIPTION:
URL:https://horizonsedgeva.com/event/ebc-basketball-tournament-series-2025-5/
END:VEVENT
BEGIN:VEVENT
DTSTART;TZID=America/New_York:20250412T080000
DTEND;TZID=America/New_York:20250412T220000
DTSTAMP:20260422T005446
CREATED:20240920T184820Z
LAST-MODIFIED:20240920T184820Z
UID:6292-1744444800-1744495200@horizonsedgeva.com
SUMMARY:Big Time Hoops: 2025-2027
DESCRIPTION:
URL:https://horizonsedgeva.com/event/big-time-hoops-2025-2027/
END:VEVENT
BEGIN:VEVENT
DTSTART;TZID=America/New_York:20250413T080000
DTEND;TZID=America/New_York:20250413T220000
DTSTAMP:20260422T005446
CREATED:20240920T184820Z
LAST-MODIFIED:20240920T184820Z
UID:6293-1744531200-1744581600@horizonsedgeva.com
SUMMARY:Big Time Hoops: 2025-2027
DESCRIPTION:
URL:https://horizonsedgeva.com/event/big-time-hoops-2025-2027-2/
END:VEVENT
BEGIN:VEVENT
DTSTART;TZID=America/New_York:20250413T140000
DTEND;TZID=America/New_York:20250413T170000
DTSTAMP:20260422T005446
CREATED:20250401T150705Z
LAST-MODIFIED:20250401T150929Z
UID:6548-1744552800-1744563600@horizonsedgeva.com
SUMMARY:Blue Ridge FC VS Club Petrolero
DESCRIPTION:
URL:https://horizonsedgeva.com/event/blue-ridge-fc-vs-club-petrolero/
END:VEVENT
BEGIN:VEVENT
DTSTART;TZID=America/New_York:20250419T080000
DTEND;TZID=America/New_York:20250419T220000
DTSTAMP:20260422T005446
CREATED:20240920T184821Z
LAST-MODIFIED:20240920T184821Z
UID:6294-1745049600-1745100000@horizonsedgeva.com
SUMMARY:EBC - Basketball Tournament Series 2025
DESCRIPTION:
URL:https://horizonsedgeva.com/event/ebc-basketball-tournament-series-2025-6/
END:VEVENT
BEGIN:VEVENT
DTSTART;TZID=America/New_York:20250419T080000
DTEND;TZID=America/New_York:20250419T220000
DTSTAMP:20260422T005446
CREATED:20250401T151226Z
LAST-MODIFIED:20250401T151226Z
UID:6550-1745049600-1745100000@horizonsedgeva.com
SUMMARY:Shenandoah Valley Wrestling Club Tournaments 2024-2025
DESCRIPTION:
URL:https://horizonsedgeva.com/event/shenandoah-valley-wrestling-club-tournaments-2024-2025/
END:VEVENT
BEGIN:VEVENT
DTSTART;TZID=America/New_York:20250426T080000
DTEND;TZID=America/New_York:20250426T220000
DTSTAMP:20260422T005446
CREATED:20240920T184822Z
LAST-MODIFIED:20240920T184822Z
UID:6295-1745654400-1745704800@horizonsedgeva.com
SUMMARY:Your Future Basketball - 2025 Tournament Series
DESCRIPTION:
URL:https://horizonsedgeva.com/event/your-future-basketball-2025-tournament-series-3/
END:VEVENT
BEGIN:VEVENT
DTSTART;TZID=America/New_York:20250427T080000
DTEND;TZID=America/New_York:20250427T220000
DTSTAMP:20260422T005446
CREATED:20250401T151440Z
LAST-MODIFIED:20250401T151440Z
UID:6552-1745740800-1745791200@horizonsedgeva.com
SUMMARY:Augusta County Cornhole Regional Cornhole Tournament
DESCRIPTION:
URL:https://horizonsedgeva.com/event/augusta-county-cornhole-regional-cornhole-tournament/
END:VEVENT
BEGIN:VEVENT
DTSTART;TZID=America/New_York:20250427T140000
DTEND;TZID=America/New_York:20250427T170000
DTSTAMP:20260422T005446
CREATED:20250401T151531Z
LAST-MODIFIED:20250401T151531Z
UID:6554-1745762400-1745773200@horizonsedgeva.com
SUMMARY:Blue Ridge FC VS Doradus FC
DESCRIPTION:
URL:https://horizonsedgeva.com/event/blue-ridge-fc-vs-doradus-fc/
END:VEVENT
END:VCALENDAR