BEGIN:VCALENDAR
VERSION:2.0
PRODID:-//Horizons Edge Sports Campus - ECPv6.15.11//NONSGML v1.0//EN
CALSCALE:GREGORIAN
METHOD:PUBLISH
X-WR-CALNAME:Horizons Edge Sports Campus
X-ORIGINAL-URL:https://horizonsedgeva.com
X-WR-CALDESC:Events for Horizons Edge Sports Campus
REFRESH-INTERVAL;VALUE=DURATION:PT1H
X-Robots-Tag:noindex
X-PUBLISHED-TTL:PT1H
BEGIN:VTIMEZONE
TZID:America/New_York
BEGIN:DAYLIGHT
TZOFFSETFROM:-0500
TZOFFSETTO:-0400
TZNAME:EDT
DTSTART:20240310T070000
END:DAYLIGHT
BEGIN:STANDARD
TZOFFSETFROM:-0400
TZOFFSETTO:-0500
TZNAME:EST
DTSTART:20241103T060000
END:STANDARD
BEGIN:DAYLIGHT
TZOFFSETFROM:-0500
TZOFFSETTO:-0400
TZNAME:EDT
DTSTART:20250309T070000
END:DAYLIGHT
BEGIN:STANDARD
TZOFFSETFROM:-0400
TZOFFSETTO:-0500
TZNAME:EST
DTSTART:20251102T060000
END:STANDARD
BEGIN:DAYLIGHT
TZOFFSETFROM:-0500
TZOFFSETTO:-0400
TZNAME:EDT
DTSTART:20260308T070000
END:DAYLIGHT
BEGIN:STANDARD
TZOFFSETFROM:-0400
TZOFFSETTO:-0500
TZNAME:EST
DTSTART:20261101T060000
END:STANDARD
END:VTIMEZONE
BEGIN:VEVENT
DTSTART;TZID=America/New_York:20250503T080000
DTEND;TZID=America/New_York:20250503T220000
DTSTAMP:20260421T233136
CREATED:20240920T184822Z
LAST-MODIFIED:20240920T184822Z
UID:6296-1746259200-1746309600@horizonsedgeva.com
SUMMARY:EBC - Basketball Tournament Series 2025
DESCRIPTION:
URL:https://horizonsedgeva.com/event/ebc-basketball-tournament-series-2025-7/
END:VEVENT
BEGIN:VEVENT
DTSTART;TZID=America/New_York:20250503T080000
DTEND;TZID=America/New_York:20250503T220000
DTSTAMP:20260421T233136
CREATED:20250401T151743Z
LAST-MODIFIED:20250401T151936Z
UID:6556-1746259200-1746309600@horizonsedgeva.com
SUMMARY:ERS Harrisonburg 2025 Roundnet Tournament
DESCRIPTION:
URL:https://horizonsedgeva.com/event/ers-harrisonburg-2025-roundnet-tournament/
END:VEVENT
BEGIN:VEVENT
DTSTART;TZID=America/New_York:20250510T080000
DTEND;TZID=America/New_York:20250510T220000
DTSTAMP:20260421T233136
CREATED:20240920T184902Z
LAST-MODIFIED:20240920T184902Z
UID:6297-1746864000-1746914400@horizonsedgeva.com
SUMMARY:Your Future Basketball - 2025 Tournament Series
DESCRIPTION:
URL:https://horizonsedgeva.com/event/your-future-basketball-2025-tournament-series-4/
END:VEVENT
BEGIN:VEVENT
DTSTART;TZID=America/New_York:20250511T140000
DTEND;TZID=America/New_York:20250511T170000
DTSTAMP:20260421T233136
CREATED:20250401T152144Z
LAST-MODIFIED:20250401T152144Z
UID:6558-1746972000-1746982800@horizonsedgeva.com
SUMMARY:Blue Ridge FC VS Club Atletico Los Toros
DESCRIPTION:
URL:https://horizonsedgeva.com/event/blue-ridge-fc-vs-club-atletico-los-toros/
END:VEVENT
BEGIN:VEVENT
DTSTART;TZID=America/New_York:20250517T080000
DTEND;TZID=America/New_York:20250517T220000
DTSTAMP:20260421T233136
CREATED:20240920T184902Z
LAST-MODIFIED:20240920T184902Z
UID:6298-1747468800-1747519200@horizonsedgeva.com
SUMMARY:EBC - Basketball Tournament Series 2025
DESCRIPTION:
URL:https://horizonsedgeva.com/event/ebc-basketball-tournament-series-2025-8/
END:VEVENT
BEGIN:VEVENT
DTSTART;TZID=America/New_York:20250517T090000
DTEND;TZID=America/New_York:20250517T210000
DTSTAMP:20260421T233136
CREATED:20250401T152311Z
LAST-MODIFIED:20250401T154208Z
UID:6560-1747472400-1747515600@horizonsedgeva.com
SUMMARY:FUJI BJJ Grappling Tournaments 2024-2025
DESCRIPTION:
URL:https://horizonsedgeva.com/event/fuji-bjj-grappling-tournaments-2024-2025/
END:VEVENT
BEGIN:VEVENT
DTSTART;TZID=America/New_York:20250523T060000
DTEND;TZID=America/New_York:20250523T200000
DTSTAMP:20260421T233136
CREATED:20240920T184903Z
LAST-MODIFIED:20240920T184903Z
UID:6299-1747980000-1748030400@horizonsedgeva.com
SUMMARY:SVKC - 2025
DESCRIPTION:
URL:https://horizonsedgeva.com/event/svkc-2025-3/
END:VEVENT
BEGIN:VEVENT
DTSTART;TZID=America/New_York:20250524T060000
DTEND;TZID=America/New_York:20250524T200000
DTSTAMP:20260421T233136
CREATED:20240920T184903Z
LAST-MODIFIED:20240920T184903Z
UID:6300-1748066400-1748116800@horizonsedgeva.com
SUMMARY:SVKC - 2025
DESCRIPTION:
URL:https://horizonsedgeva.com/event/svkc-2025-4/
END:VEVENT
BEGIN:VEVENT
DTSTART;TZID=America/New_York:20250525T060000
DTEND;TZID=America/New_York:20250525T200000
DTSTAMP:20260421T233136
CREATED:20240920T184917Z
LAST-MODIFIED:20240920T184917Z
UID:6302-1748152800-1748203200@horizonsedgeva.com
SUMMARY:SVKC - 2025
DESCRIPTION:
URL:https://horizonsedgeva.com/event/svkc-2025-5/
END:VEVENT
BEGIN:VEVENT
DTSTART;TZID=America/New_York:20250531T080000
DTEND;TZID=America/New_York:20250531T220000
DTSTAMP:20260421T233136
CREATED:20240920T184918Z
LAST-MODIFIED:20240920T184918Z
UID:6304-1748678400-1748728800@horizonsedgeva.com
SUMMARY:Your Future Basketball - 2025 Tournament Series
DESCRIPTION:
URL:https://horizonsedgeva.com/event/your-future-basketball-2025-tournament-series-5/
END:VEVENT
BEGIN:VEVENT
DTSTART;TZID=America/New_York:20250531T090000
DTEND;TZID=America/New_York:20250601T220000
DTSTAMP:20260421T233136
CREATED:20250401T160056Z
LAST-MODIFIED:20250401T160056Z
UID:6564-1748682000-1748815200@horizonsedgeva.com
SUMMARY:Augusta County Cornhole Tournament
DESCRIPTION:
URL:https://horizonsedgeva.com/event/augusta-county-cornhole-tournament/
END:VEVENT
END:VCALENDAR