BEGIN:VCALENDAR
VERSION:2.0
PRODID:-//Horizons Edge Sports Campus - ECPv6.15.11//NONSGML v1.0//EN
CALSCALE:GREGORIAN
METHOD:PUBLISH
X-WR-CALNAME:Horizons Edge Sports Campus
X-ORIGINAL-URL:https://horizonsedgeva.com
X-WR-CALDESC:Events for Horizons Edge Sports Campus
REFRESH-INTERVAL;VALUE=DURATION:PT1H
X-Robots-Tag:noindex
X-PUBLISHED-TTL:PT1H
BEGIN:VTIMEZONE
TZID:America/New_York
BEGIN:DAYLIGHT
TZOFFSETFROM:-0500
TZOFFSETTO:-0400
TZNAME:EDT
DTSTART:20240310T070000
END:DAYLIGHT
BEGIN:STANDARD
TZOFFSETFROM:-0400
TZOFFSETTO:-0500
TZNAME:EST
DTSTART:20241103T060000
END:STANDARD
BEGIN:DAYLIGHT
TZOFFSETFROM:-0500
TZOFFSETTO:-0400
TZNAME:EDT
DTSTART:20250309T070000
END:DAYLIGHT
BEGIN:STANDARD
TZOFFSETFROM:-0400
TZOFFSETTO:-0500
TZNAME:EST
DTSTART:20251102T060000
END:STANDARD
BEGIN:DAYLIGHT
TZOFFSETFROM:-0500
TZOFFSETTO:-0400
TZNAME:EDT
DTSTART:20260308T070000
END:DAYLIGHT
BEGIN:STANDARD
TZOFFSETFROM:-0400
TZOFFSETTO:-0500
TZNAME:EST
DTSTART:20261101T060000
END:STANDARD
END:VTIMEZONE
BEGIN:VEVENT
DTSTART;TZID=America/New_York:20250531T090000
DTEND;TZID=America/New_York:20250601T220000
DTSTAMP:20260421T175206
CREATED:20250401T160056Z
LAST-MODIFIED:20250401T160056Z
UID:6564-1748682000-1748815200@horizonsedgeva.com
SUMMARY:Augusta County Cornhole Tournament
DESCRIPTION:
URL:https://horizonsedgeva.com/event/augusta-county-cornhole-tournament/
END:VEVENT
BEGIN:VEVENT
DTSTART;TZID=America/New_York:20250601T140000
DTEND;TZID=America/New_York:20250601T170000
DTSTAMP:20260421T175206
CREATED:20250401T160217Z
LAST-MODIFIED:20250401T160217Z
UID:6566-1748786400-1748797200@horizonsedgeva.com
SUMMARY:Blue Ridge FC VS Grove United
DESCRIPTION:
URL:https://horizonsedgeva.com/event/blue-ridge-fc-vs-grove-united/
END:VEVENT
BEGIN:VEVENT
DTSTART;TZID=America/New_York:20250607T080000
DTEND;TZID=America/New_York:20250608T220000
DTSTAMP:20260421T175206
CREATED:20240920T184918Z
LAST-MODIFIED:20240920T184918Z
UID:6305-1749283200-1749420000@horizonsedgeva.com
SUMMARY:EBC - Basketball Tournament Series 2025
DESCRIPTION:
URL:https://horizonsedgeva.com/event/ebc-basketball-tournament-series-2025-9/
END:VEVENT
BEGIN:VEVENT
DTSTART;TZID=America/New_York:20250613T060000
DTEND;TZID=America/New_York:20250613T180000
DTSTAMP:20260421T175206
CREATED:20240920T184918Z
LAST-MODIFIED:20240920T184918Z
UID:6306-1749794400-1749837600@horizonsedgeva.com
SUMMARY:Mattaponi Agility 2025-2026
DESCRIPTION:
URL:https://horizonsedgeva.com/event/mattaponi-agility-2025-2026/
END:VEVENT
BEGIN:VEVENT
DTSTART;TZID=America/New_York:20250614T060000
DTEND;TZID=America/New_York:20250614T180000
DTSTAMP:20260421T175206
CREATED:20240920T184936Z
LAST-MODIFIED:20240920T184936Z
UID:6307-1749880800-1749924000@horizonsedgeva.com
SUMMARY:Mattaponi Agility 2025-2026
DESCRIPTION:
URL:https://horizonsedgeva.com/event/mattaponi-agility-2025-2026-2/
END:VEVENT
BEGIN:VEVENT
DTSTART;TZID=America/New_York:20250615T060000
DTEND;TZID=America/New_York:20250615T180000
DTSTAMP:20260421T175206
CREATED:20240920T184937Z
LAST-MODIFIED:20240920T184937Z
UID:6309-1749967200-1750010400@horizonsedgeva.com
SUMMARY:Mattaponi Agility 2025-2026
DESCRIPTION:
URL:https://horizonsedgeva.com/event/mattaponi-agility-2025-2026-3/
END:VEVENT
BEGIN:VEVENT
DTSTART;TZID=America/New_York:20250615T120000
DTEND;TZID=America/New_York:20250615T170000
DTSTAMP:20260421T175206
CREATED:20250401T160737Z
LAST-MODIFIED:20250401T160737Z
UID:6571-1749988800-1750006800@horizonsedgeva.com
SUMMARY:Blue Ridge FC VS Lynchburg FC
DESCRIPTION:
URL:https://horizonsedgeva.com/event/blue-ridge-fc-vs-lynchburg-fc/
END:VEVENT
BEGIN:VEVENT
DTSTART;TZID=America/New_York:20250621T080000
DTEND;TZID=America/New_York:20250621T220000
DTSTAMP:20260421T175206
CREATED:20240920T184938Z
LAST-MODIFIED:20240920T184938Z
UID:6311-1750492800-1750543200@horizonsedgeva.com
SUMMARY:EBC - Basketball Tournament Series 2025
DESCRIPTION:
URL:https://horizonsedgeva.com/event/ebc-basketball-tournament-series-2025-10/
END:VEVENT
BEGIN:VEVENT
DTSTART;TZID=America/New_York:20250628T080000
DTEND;TZID=America/New_York:20250628T220000
DTSTAMP:20260421T175206
CREATED:20240920T184954Z
LAST-MODIFIED:20240920T184954Z
UID:6312-1751097600-1751148000@horizonsedgeva.com
SUMMARY:Big Shots: 2025-2027
DESCRIPTION:
URL:https://horizonsedgeva.com/event/big-shots-2025-2027-2/
END:VEVENT
BEGIN:VEVENT
DTSTART;TZID=America/New_York:20250629T080000
DTEND;TZID=America/New_York:20250629T220000
DTSTAMP:20260421T175206
CREATED:20240920T184954Z
LAST-MODIFIED:20240920T184954Z
UID:6313-1751184000-1751234400@horizonsedgeva.com
SUMMARY:Big Shots: 2025-2027
DESCRIPTION:
URL:https://horizonsedgeva.com/event/big-shots-2025-2027-3/
END:VEVENT
END:VCALENDAR