BEGIN:VCALENDAR
VERSION:2.0
PRODID:-//Horizons Edge Sports Campus - ECPv6.15.11//NONSGML v1.0//EN
CALSCALE:GREGORIAN
METHOD:PUBLISH
X-ORIGINAL-URL:https://horizonsedgeva.com
X-WR-CALDESC:Events for Horizons Edge Sports Campus
REFRESH-INTERVAL;VALUE=DURATION:PT1H
X-Robots-Tag:noindex
X-PUBLISHED-TTL:PT1H
BEGIN:VTIMEZONE
TZID:America/New_York
BEGIN:DAYLIGHT
TZOFFSETFROM:-0500
TZOFFSETTO:-0400
TZNAME:EDT
DTSTART:20240310T070000
END:DAYLIGHT
BEGIN:STANDARD
TZOFFSETFROM:-0400
TZOFFSETTO:-0500
TZNAME:EST
DTSTART:20241103T060000
END:STANDARD
BEGIN:DAYLIGHT
TZOFFSETFROM:-0500
TZOFFSETTO:-0400
TZNAME:EDT
DTSTART:20250309T070000
END:DAYLIGHT
BEGIN:STANDARD
TZOFFSETFROM:-0400
TZOFFSETTO:-0500
TZNAME:EST
DTSTART:20251102T060000
END:STANDARD
BEGIN:DAYLIGHT
TZOFFSETFROM:-0500
TZOFFSETTO:-0400
TZNAME:EDT
DTSTART:20260308T070000
END:DAYLIGHT
BEGIN:STANDARD
TZOFFSETFROM:-0400
TZOFFSETTO:-0500
TZNAME:EST
DTSTART:20261101T060000
END:STANDARD
END:VTIMEZONE
BEGIN:VEVENT
DTSTART;TZID=America/New_York:20250704T060000
DTEND;TZID=America/New_York:20250706T190000
DTSTAMP:20260421T145432
CREATED:20250401T161651Z
LAST-MODIFIED:20250401T161651Z
UID:6575-1751608800-1751828400@horizonsedgeva.com
SUMMARY:Blue Ridge Dog Training Club Agility Trial
DESCRIPTION:
URL:https://horizonsedgeva.com/event/blue-ridge-dog-training-club-agility-trial/
END:VEVENT
BEGIN:VEVENT
DTSTART;TZID=America/New_York:20250712T080000
DTEND;TZID=America/New_York:20250712T220000
DTSTAMP:20260421T145432
CREATED:20240920T184955Z
LAST-MODIFIED:20240920T184955Z
UID:6315-1752307200-1752357600@horizonsedgeva.com
SUMMARY:EBC - Basketball Tournament Series 2025
DESCRIPTION:
URL:https://horizonsedgeva.com/event/ebc-basketball-tournament-series-2025-11/
END:VEVENT
BEGIN:VEVENT
DTSTART;TZID=America/New_York:20250718T060000
DTEND;TZID=America/New_York:20250718T200000
DTSTAMP:20260421T145432
CREATED:20240920T184955Z
LAST-MODIFIED:20240920T184955Z
UID:6316-1752818400-1752868800@horizonsedgeva.com
SUMMARY:SVKC - 2025
DESCRIPTION:
URL:https://horizonsedgeva.com/event/svkc-2025-6/
END:VEVENT
BEGIN:VEVENT
DTSTART;TZID=America/New_York:20250719T060000
DTEND;TZID=America/New_York:20250719T200000
DTSTAMP:20260421T145432
CREATED:20240920T185009Z
LAST-MODIFIED:20240920T185009Z
UID:6317-1752904800-1752955200@horizonsedgeva.com
SUMMARY:SVKC - 2025
DESCRIPTION:
URL:https://horizonsedgeva.com/event/svkc-2025-7/
END:VEVENT
BEGIN:VEVENT
DTSTART;TZID=America/New_York:20250720T060000
DTEND;TZID=America/New_York:20250720T200000
DTSTAMP:20260421T145432
CREATED:20240920T185010Z
LAST-MODIFIED:20240920T185010Z
UID:6319-1752991200-1753041600@horizonsedgeva.com
SUMMARY:SVKC - 2025
DESCRIPTION:
URL:https://horizonsedgeva.com/event/svkc-2025-8/
END:VEVENT
BEGIN:VEVENT
DTSTART;TZID=America/New_York:20250726T080000
DTEND;TZID=America/New_York:20250726T220000
DTSTAMP:20260421T145432
CREATED:20240920T185011Z
LAST-MODIFIED:20240920T185011Z
UID:6321-1753516800-1753567200@horizonsedgeva.com
SUMMARY:EBC - Basketball Tournament Series 2025
DESCRIPTION:
URL:https://horizonsedgeva.com/event/ebc-basketball-tournament-series-2025-12/
END:VEVENT
END:VCALENDAR