BEGIN:VCALENDAR
VERSION:2.0
PRODID:-//Horizons Edge Sports Campus - ECPv6.15.11//NONSGML v1.0//EN
CALSCALE:GREGORIAN
METHOD:PUBLISH
X-ORIGINAL-URL:https://horizonsedgeva.com
X-WR-CALDESC:Events for Horizons Edge Sports Campus
REFRESH-INTERVAL;VALUE=DURATION:PT1H
X-Robots-Tag:noindex
X-PUBLISHED-TTL:PT1H
BEGIN:VTIMEZONE
TZID:America/New_York
BEGIN:DAYLIGHT
TZOFFSETFROM:-0500
TZOFFSETTO:-0400
TZNAME:EDT
DTSTART:20240310T070000
END:DAYLIGHT
BEGIN:STANDARD
TZOFFSETFROM:-0400
TZOFFSETTO:-0500
TZNAME:EST
DTSTART:20241103T060000
END:STANDARD
BEGIN:DAYLIGHT
TZOFFSETFROM:-0500
TZOFFSETTO:-0400
TZNAME:EDT
DTSTART:20250309T070000
END:DAYLIGHT
BEGIN:STANDARD
TZOFFSETFROM:-0400
TZOFFSETTO:-0500
TZNAME:EST
DTSTART:20251102T060000
END:STANDARD
BEGIN:DAYLIGHT
TZOFFSETFROM:-0500
TZOFFSETTO:-0400
TZNAME:EDT
DTSTART:20260308T070000
END:DAYLIGHT
BEGIN:STANDARD
TZOFFSETFROM:-0400
TZOFFSETTO:-0500
TZNAME:EST
DTSTART:20261101T060000
END:STANDARD
END:VTIMEZONE
BEGIN:VEVENT
DTSTART;TZID=America/New_York:20251101T080000
DTEND;TZID=America/New_York:20251101T220000
DTSTAMP:20260421T062023
CREATED:20240920T185115Z
LAST-MODIFIED:20240920T185115Z
UID:6339-1761984000-1762034400@horizonsedgeva.com
SUMMARY:EBC - Basketball Tournament Series 2025
DESCRIPTION:
URL:https://horizonsedgeva.com/event/ebc-basketball-tournament-series-2025-16/
END:VEVENT
BEGIN:VEVENT
DTSTART;TZID=America/New_York:20251108T090000
DTEND;TZID=America/New_York:20251108T220000
DTSTAMP:20260421T062023
CREATED:20250401T173149Z
LAST-MODIFIED:20250401T173149Z
UID:6595-1762592400-1762639200@horizonsedgeva.com
SUMMARY:Augusta County Cornhole Regional Cornhole Tournament
DESCRIPTION:
URL:https://horizonsedgeva.com/event/augusta-county-cornhole-regional-cornhole-tournament-4/
END:VEVENT
BEGIN:VEVENT
DTSTART;TZID=America/New_York:20251115T080000
DTEND;TZID=America/New_York:20251115T220000
DTSTAMP:20260421T062023
CREATED:20240920T185133Z
LAST-MODIFIED:20240920T185133Z
UID:6342-1763193600-1763244000@horizonsedgeva.com
SUMMARY:EBC - Basketball Tournament Series 2025
DESCRIPTION:
URL:https://horizonsedgeva.com/event/ebc-basketball-tournament-series-2025-17/
END:VEVENT
BEGIN:VEVENT
DTSTART;TZID=America/New_York:20251122T090000
DTEND;TZID=America/New_York:20251122T220000
DTSTAMP:20260421T062023
CREATED:20250401T173244Z
LAST-MODIFIED:20250401T173244Z
UID:6597-1763802000-1763848800@horizonsedgeva.com
SUMMARY:Augusta County Cornhole Regional Cornhole Tournament
DESCRIPTION:
URL:https://horizonsedgeva.com/event/augusta-county-cornhole-regional-cornhole-tournament-5/
END:VEVENT
END:VCALENDAR