BEGIN:VCALENDAR
VERSION:2.0
PRODID:-//Horizons Edge Sports Campus - ECPv6.15.11//NONSGML v1.0//EN
CALSCALE:GREGORIAN
METHOD:PUBLISH
X-WR-CALNAME:Horizons Edge Sports Campus
X-ORIGINAL-URL:https://horizonsedgeva.com
X-WR-CALDESC:Events for Horizons Edge Sports Campus
REFRESH-INTERVAL;VALUE=DURATION:PT1H
X-Robots-Tag:noindex
X-PUBLISHED-TTL:PT1H
BEGIN:VTIMEZONE
TZID:America/New_York
BEGIN:DAYLIGHT
TZOFFSETFROM:-0500
TZOFFSETTO:-0400
TZNAME:EDT
DTSTART:20250309T070000
END:DAYLIGHT
BEGIN:STANDARD
TZOFFSETFROM:-0400
TZOFFSETTO:-0500
TZNAME:EST
DTSTART:20251102T060000
END:STANDARD
BEGIN:DAYLIGHT
TZOFFSETFROM:-0500
TZOFFSETTO:-0400
TZNAME:EDT
DTSTART:20260308T070000
END:DAYLIGHT
BEGIN:STANDARD
TZOFFSETFROM:-0400
TZOFFSETTO:-0500
TZNAME:EST
DTSTART:20261101T060000
END:STANDARD
BEGIN:DAYLIGHT
TZOFFSETFROM:-0500
TZOFFSETTO:-0400
TZNAME:EDT
DTSTART:20270314T070000
END:DAYLIGHT
BEGIN:STANDARD
TZOFFSETFROM:-0400
TZOFFSETTO:-0500
TZNAME:EST
DTSTART:20271107T060000
END:STANDARD
END:VTIMEZONE
BEGIN:VEVENT
DTSTART;TZID=America/New_York:20260605T080000
DTEND;TZID=America/New_York:20260605T080000
DTSTAMP:20260421T014032
CREATED:20260224T035827Z
LAST-MODIFIED:20260224T035827Z
UID:6985-1780646400-1780646400@horizonsedgeva.com
SUMMARY:State Cornhole Tournament
DESCRIPTION:
URL:https://horizonsedgeva.com/event/state-cornhole-tournament-2/
LOCATION:Horizons Edge Sports Campus\, 325 Cornerstone Drive
END:VEVENT
BEGIN:VEVENT
DTSTART;TZID=America/New_York:20260606T080000
DTEND;TZID=America/New_York:20260606T080000
DTSTAMP:20260421T014032
CREATED:20260224T035827Z
LAST-MODIFIED:20260224T035827Z
UID:6986-1780732800-1780732800@horizonsedgeva.com
SUMMARY:EBC Tournament Series - 2026
DESCRIPTION:
URL:https://horizonsedgeva.com/event/ebc-tournament-series-2026-23/
LOCATION:Horizons Edge Sports Campus\, 325 Cornerstone Drive
END:VEVENT
BEGIN:VEVENT
DTSTART;TZID=America/New_York:20260612T060000
DTEND;TZID=America/New_York:20260612T060000
DTSTAMP:20260421T014032
CREATED:20260224T035854Z
LAST-MODIFIED:20260224T035854Z
UID:6987-1781244000-1781244000@horizonsedgeva.com
SUMMARY:Mattaponi Agility 2025-2026
DESCRIPTION:
URL:https://horizonsedgeva.com/event/mattaponi-agility-2025-2026-5/
LOCATION:Horizons Edge Sports Campus\, 325 Cornerstone Drive
END:VEVENT
BEGIN:VEVENT
DTSTART;TZID=America/New_York:20260620T090000
DTEND;TZID=America/New_York:20260620T090000
DTSTAMP:20260421T014032
CREATED:20260224T035854Z
LAST-MODIFIED:20260224T035854Z
UID:6988-1781946000-1781946000@horizonsedgeva.com
SUMMARY:Regional Cornhole Dates
DESCRIPTION:
URL:https://horizonsedgeva.com/event/regional-cornhole-dates-7/
LOCATION:Horizons Edge Sports Campus\, 325 Cornerstone Drive
END:VEVENT
BEGIN:VEVENT
DTSTART;TZID=America/New_York:20260627T100000
DTEND;TZID=America/New_York:20260627T100000
DTSTAMP:20260421T014032
CREATED:20260224T035854Z
LAST-MODIFIED:20260224T035854Z
UID:6989-1782554400-1782554400@horizonsedgeva.com
SUMMARY:June Jam at The Edge
DESCRIPTION:Horizons Edge Sports Campus presents the: June Jam at Horizons Edge Saturday\, June 27th\, 2026 | 18+ Adult Basketball Tournament | 10AM Start Competitive adult teams from all over will battle it out in this high-energy holiday tournament. Each team is guaranteed 3 games\, with bracket play for those who advance. Winning teams take home cash prizes up to $500. Entry is $30 per player.  Enjoy 50/50 raffles\, on-site concession specials\, and a full day of The Valley’s BEST basketball players in action!
URL:https://horizonsedgeva.com/event/june-jam-at-the-edge-2/
LOCATION:Horizons Edge Sports Campus\, 325 Cornerstone Drive
END:VEVENT
END:VCALENDAR